Workbook
Name Dirección: '00_Listas'!$F$1:$F$6
Name Económico: '00_Listas'!$K$2:$K$7
Name Elenco: '00_Listas'!$D$1:$D$4
Name Especie: '00_Listas'!$L$1:$L$4
Name Extras: '00_Listas'!$E$1:$E$8
Name Música: '00_Listas'!$H$1:$H$3
Name Producción: '00_Listas'!$G$1:$G$5
Name RUBROS: '00_Listas'!$N$1:$N$29
Name ServiciosProfesionales: '00_Listas'!$I$1:$I$3
Name Técnicos: '00_Listas'!$B$1:$B$48
Name TipoAporte: '00_Listas'!$J$1:$J$2
Name Tipos: '00_Listas'!$A$1:$A$7
Name Validacion: '00_Listas'!$M$1:$M$6

Sheet 01_Presupuesto
A1: PRESUPUESTO
A3: Presentante: | D3: Completá tu nombre y el nombre del proyecto en el cuadro verde. Luego completá el presupuesto. Presupuestar únicamente los campos necesarios para cada proyecto. No es obligatorio llenar todos los campos. ATENCIÓN: En caso de resultar beneficiario, la rendición final deberá coincidir exactamente con el presupuesto presentado. Antes de completar el formulario, leé atentamente las Bases y Condiciones.
A4: Nombre del proyecto:
A5: Convocatoria: | B5: Concurso proyectos de Animación
A7: PANEL DE CHEQUEO
A9: PRESUPUESTO | B9: =F85 -> 0
A12: N° Rubro | B12: Rubro | C12: SUB RUBRO | D12: Beneficio IDEA | E12: Costo neto de IVA | F12: Costo total | G12: % | H12: Observaciones
A13: 1 | B13: Dirección | C13: Dirección | F13: =SUM(D13:D16) -> 0 | G13: =IFERROR(F13/$F$85,"")
C14: Co-dirección
C15: Dirección de animación
C16: Asistencia de dirección
A17: 2 | B17: Producción | C17: Producción | F17: =SUM(D17:D21) -> 0 | G17: =IFERROR(F17/$F$85,"")
C18: Producción ejecutiva
C19: Dirección de producción
C20: Coordinación de post producción
C21: Asistente de producción
A22: 3 | B22: Equipo técnico | C22: Equipo | F22: =D22 -> 0 | G22: =IFERROR(F22/$F$85,"")
A23: 4 | B23: Elenco e intérpretes | C23: Actores y actrices | F23: =SUM(D23:D28) -> 0 | G23: =IFERROR(F23/$F$85,"")
C24: Elenco de voz
C25: Doblaje
C26: Intérpretes de captura de movimiento
C27: Titiriteros, manipuladores, etc.
C28: Sala de ensayo
A29: 5 | B29: Cargas sociales | C29: Cargas Soc. AAA | F29: =SUM(D29:D33) -> 0 | G29: =IFERROR(F29/$F$85,"")
C30: Cargas Soc. SICA
C31: Cargas Soc SADEM
C32: Cargas Soc. SUTEP
C33: Otras cargas sociales
A34: 6 | B34: Vestuario y maquillaje | C34: Compra materiales | F34: =SUM(D34:D38) -> 0 | G34: =IFERROR(F34/$F$85,"")
C35: Accesorios
C36: Alquileres
C37: Mantenimiento y limpieza
C38: Otros - Vestuario
A39: 7 | B39: Arte y realización | C39: Compra materiales | F39: =SUM(D39:D41) -> 0 | G39: =IFERROR(F39/$F$85,"")
C40: Realizaciones
C41: Alquileres
A42: 8 | B42: Material de archivo | C42: Contrataciones de material | F42: =SUM(D42:D43) -> 0 | G42: =IFERROR(F42/$F$85,"")
C43: Otros - permisos, licencias, etc.
A44: 9 | B44: Música | C44: Compositor - Autoría | F44: =SUM(D44:D49) -> 0 | G44: =IFERROR(F44/$F$85,"")
C45: Música original
...

Sheet 06_Rendicion_Formulario
A1: PLANILLA DE RENDICIÓN
A3: Presentante: | B3: =#REF! -> #REF! | D3: Cargá un comprobante por cada fila, completando todos los datos requeridos en la planilla. ATENCIÓN: Se permitirá una reasignación de hasta un diez por ciento (10%) del presupuesto aprobado, únicamente entre los rubros previamente aprobados, sin modificar el monto total del subsidio. Antes de completar, leé atentamente las Bases y Condiciones.
A4: Nombre del proyecto: | B4: =#REF! -> #REF!
A5: Convocatoria: | B5: =#REF! -> #REF!
A7: PANEL DE CHEQUEO: | D7: Link de acceso:
D8: Complete con link de acceso público a carpeta con comprobantes
A9: Subsidio total a rendir: | B9: =#REF! -> #REF!
A10: Total rendido (planilla): | B10: =K115 -> 0
A11: Chequeo: | B11: =IF(B10>=B9,"OK","Faltan montos por rendir") -> #REF!
A13: N° | B13: Rubro | C13: Fecha | D13: Razón social | E13: Domicilio | F13: CUIT | G13: Tipo de comprobante | H13: N° comprobante | I13: Concepto | J13: Tipo de gasto | K13: Precio neto gravado | L13: IVA | M13: Otros | N13: Total
A14: =ROW()-13 -> 1 | N14: =IF(COUNTA(B14:M14)=0,"",K14+L14+M14)
A15: =ROW()-13 -> 2 | N15: =IF(COUNTA(B15:M15)=0,"",K15+L15+M15)
A16: =ROW()-13 -> 3 | N16: =IF(COUNTA(B16:M16)=0,"",K16+L16+M16)
A17: =ROW()-13 -> 4 | N17: =IF(COUNTA(B17:M17)=0,"",K17+L17+M17)
A18: =ROW()-13 -> 5 | N18: =IF(COUNTA(B18:M18)=0,"",K18+L18+M18)
A19: =ROW()-13 -> 6 | N19: =IF(COUNTA(B19:M19)=0,"",K19+L19+M19)
A20: =ROW()-13 -> 7 | N20: =IF(COUNTA(B20:M20)=0,"",K20+L20+M20)
A21: =ROW()-13 -> 8 | N21: =IF(COUNTA(B21:M21)=0,"",K21+L21+M21)
A22: =ROW()-13 -> 9 | N22: =IF(COUNTA(B22:M22)=0,"",K22+L22+M22)
A23: =ROW()-13 -> 10 | N23: =IF(COUNTA(B23:M23)=0,"",K23+L23+M23)
A24: =ROW()-13 -> 11 | N24: =IF(COUNTA(B24:M24)=0,"",K24+L24+M24)
A25: =ROW()-13 -> 12 | N25: =IF(COUNTA(B25:M25)=0,"",K25+L25+M25)
... A113: =ROW()-13 -> 100 | N113: =IF(COUNTA(B113:M113)=0,"",K113+L113+M113)
I115: TOTALES | K115: =SUM(K14:K114) -> 0 | L115: =SUM(L14:L114) -> 0 | M115: =SUM(M14:M114) -> 0 | N115: =SUM(N14:N114) -> 0

Sheet 07_Nomina equipo definitivo
A1: NOMINA DE EQUIPO TÉCNICO Y ARTÍSTICO DEFINITIVO
A3: Presentante: | B3: =#REF! -> #REF! | D3: Cargá una fila por cada persona. Seleccioná el tipo de personal, el subtipo y luego completá los datos solicitados en las demás columnas. El indicador calculará automáticamente el porcentaje de personas con residencia en la provincia de Salta (objetivo mínimo: ≥ 80%). ATENCIÓN: Se recomienda tomar como referencia los valores establecidos por SICA, DAC, AAA y SUTEP. Antes de completar el formulario, leé atentamente las Bases y Condiciones.
A4: Nombre del proyecto: | B4: =#REF! -> #REF!
A5: Convocatoria: | B5: =#REF! -> #REF!
A7: PANEL DE CHEQUEO:
A9: Total personas : | B9: =COUNTIF(D17:D56,"<>") -> 0
A10: Residentes en Salta: | B10: =COUNTIF(F17:F56,"Salta") -> 0
A11: % residentes: | B11: =IF(B9=0,0,B10/B9) -> 0
A12: Total honorarios: | B12: =SUM(K17:K56) -> 0
A13: Total honorarios en Salta: | B13: =SUMIF($F$16:$F$55,"Salta",$K$16:$K$55) -> 0
A14: Días de trabajo en Salta: | B14: {=SUMPRODUCT(($F$16:$F$55="Salta")* IFERROR(VALUE($J$16:$J$55),0)* IF($I$16:$I$55="Jornada",1, IF($I$16:$I$55="Hora",1/8, IF($I$16:$I$55="Semana",5,0))))} -> 0
A16: N° | B16: Tipo de personal | C16: Subtipo | D16: Nombre y apellido | E16: DNI/CUIT | F16: Residente en Salta | G16: Localidad de residencia | H16: Honorarios | I16: Unidad | J16: Cantidad | K16: Total honorarios | L16: Observaciones
A17: =ROW()-16 -> 1
A18: =ROW()-16 -> 2
A19: =ROW()-16 -> 3
A20: =ROW()-16 -> 4 | K20: =IF(COUNTA(H20,J20)<2,"",H20*J20)
A21: =ROW()-16 -> 5 | K21: =IF(COUNTA(H21,J21)<2,"",H21*J21)
A22: =ROW()-16 -> 6 | K22: =IF(COUNTA(H22,J22)<2,"",H22*J22)
A23: =ROW()-16 -> 7 | K23: =IF(COUNTA(H23,J23)<2,"",H23*J23)
A24: =ROW()-16 -> 8 | K24: =IF(COUNTA(H24,J24)<2,"",H24*J24)
A25: =ROW()-16 -> 9 | K25: =IF(COUNTA(H25,J25)<2,"",H25*J25)
A26: =ROW()-16 -> 10 | K26: =IF(COUNTA(H26,J26)<2,"",H26*J26)
A27: =ROW()-16 -> 11 | K27: =IF(COUNTA(H27,J27)<2,"",H27*J27)
A28: =ROW()-16 -> 12 | K28: =IF(COUNTA(H28,J28)<2,"",H28*J28)
A29: =ROW()-16 -> 13 | K29: =IF(COUNTA(H29,J29)<2,"",H29*J29)
A30: =ROW()-16 -> 14 | K30: =IF(COUNTA(H30,J30)<2,"",H30*J30)
A31: =ROW()-16 -> 15 | K31: =IF(COUNTA(H31,J31)<2,"",H31*J31)
... A56: =ROW()-16 -> 40 | K56: =IF(COUNTA(H56,J56)<2,"",H56*J56)

Sheet 08_Impacto_Economico
A1: IMPACTO ECONÓMICO
A3: Presentante: | B3: =#REF! -> #REF!
A4: Nombre del proyecto: | B4: =#REF! -> #REF!
A5: Concurso / Convocatoria: | B5: =#REF! -> #REF!
A7: En esta planilla podrás ver el impacto económico de tu producción
A9: Rubro | B9: Cantidad | C9: Monto (ARS) | D9: Notas
A10: Desarrollo del proyecto | B10: =IF(COUNTIF('06_Rendicion_Formulario'!$B$14:$B$113,$A10)=0,"",COUNTIF('06_Rendicion_Formulario'!$B$14:$B$113,$A10)) | C10: =IF(SUMIF('06_Rendicion_Formulario'!$B$14:$B$113,$A10,'06_Rendicion_Formulario'!$N$14:$N$113)=0,"",SUMIF('06_Rendicion_Formulario'!$B$14:$B$113,$A10,'06_Rendicion_Formulario'!$N$14:$N$113))
A11: Dirección | B11: =IF(COUNTIF('06_Rendicion_Formulario'!$B$14:$B$113,$A11)=0,"",COUNTIF('06_Rendicion_Formulario'!$B$14:$B$113,$A11)) | C11: =IF(SUMIF('06_Rendicion_Formulario'!$B$14:$B$113,$A11,'06_Rendicion_Formulario'!$N$14:$N$113)=0,"",SUMIF('06_Rendicion_Formulario'!$B$14:$B$113,$A11,'06_Rendicion_Formulario'!$N$14:$N$113))
A12: Producción | B12: =IF(COUNTIF('06_Rendicion_Formulario'!$B$14:$B$113,$A12)=0,"",COUNTIF('06_Rendicion_Formulario'!$B$14:$B$113,$A12)) | C12: =IF(SUMIF('06_Rendicion_Formulario'!$B$14:$B$113,$A12,'06_Rendicion_Formulario'!$N$14:$N$113)=0,"",SUMIF('06_Rendicion_Formulario'!$B$14:$B$113,$A12,'06_Rendicion_Formulario'!$N$14:$N$113))
A13: Equipo técnico | B13: =IF(COUNTIF('06_Rendicion_Formulario'!$B$14:$B$113,$A13)=0,"",COUNTIF('06_Rendicion_Formulario'!$B$14:$B$113,$A13)) | C13: =IF(SUMIF('06_Rendicion_Formulario'!$B$14:$B$113,$A13,'06_Rendicion_Formulario'!$N$14:$N$113)=0,"",SUMIF('06_Rendicion_Formulario'!$B$14:$B$113,$A13,'06_Rendicion_Formulario'!$N$14:$N$113))
A14: Elenco | B14: =IF(COUNTIF('06_Rendicion_Formulario'!$B$14:$B$113,$A14)=0,"",COUNTIF('06_Rendicion_Formulario'!$B$14:$B$113,$A14)) | C14: =IF(SUMIF('06_Rendicion_Formulario'!$B$14:$B$113,$A14,'06_Rendicion_Formulario'!$N$14:$N$113)=0,"",SUMIF('06_Rendicion_Formulario'!$B$14:$B$113,$A14,'06_Rendicion_Formulario'!$N$14:$N$113))
A15: Cargas sociales | C15: =IF(SUMIF('06_Rendicion_Formulario'!$B$14:$B$113,$A15,'06_Rendicion_Formulario'!$N$14:$N$113)=0,"",SUMIF('06_Rendicion_Formulario'!$B$14:$B$113,$A15,'06_Rendicion_Formulario'!$N$14:$N$113))
A16: Vestuario | B16: =IF(COUNTIF('06_Rendicion_Formulario'!$B$14:$B$113,$A16)=0,"",COUNTIF('06_Rendicion_Formulario'!$B$14:$B$113,$A16)) | C16: =IF(SUMIF('06_Rendicion_Formulario'!$B$14:$B$113,$A16,'06_Rendicion_Formulario'!$N$14:$N$113)=0,"",SUMIF('06_Rendicion_Formulario'!$B$14:$B$113,$A16,'06_Rendicion_Formulario'!$N$14:$N$113))
A17: Maquillaje | B17: =IF(COUNTIF('06_Rendicion_Formulario'!$B$14:$B$113,$A17)=0,"",COUNTIF('06_Rendicion_Formulario'!$B$14:$B$113,$A17)) | C17: =IF(SUMIF('06_Rendicion_Formulario'!$B$14:$B$113,$A17,'06_Rendicion_Formulario'!$N$14:$N$113)=0,"",SUMIF('06_Rendicion_Formulario'!$B$14:$B$113,$A17,'06_Rendicion_Formulario'!$N$14:$N$113))
A18: Utilería | B18: =IF(COUNTIF('06_Rendicion_Formulario'!$B$14:$B$113,$A18)=0,"",COUNTIF('06_Rendicion_Formulario'!$B$14:$B$113,$A18)) | C18: =IF(SUMIF('06_Rendicion_Formulario'!$B$14:$B$113,$A18,'06_Rendicion_Formulario'!$N$14:$N$113)=0,"",SUMIF('06_Rendicion_Formulario'!$B$14:$B$113,$A18,'06_Rendicion_Formulario'!$N$14:$N$113))
A19: Escenografía | B19: =IF(COUNTIF('06_Rendicion_Formulario'!$B$14:$B$113,$A19)=0,"",COUNTIF('06_Rendicion_Formulario'!$B$14:$B$113,$A19)) | C19: =IF(SUMIF('06_Rendicion_Formulario'!$B$14:$B$113,$A19,'06_Rendicion_Formulario'!$N$14:$N$113)=0,"",SUMIF('06_Rendicion_Formulario'!$B$14:$B$113,$A19,'06_Rendicion_Formulario'!$N$14:$N$113))
A20: Locaciones | B20: =IF(COUNTIF('06_Rendicion_Formulario'!$B$14:$B$113,$A20)=0,"",COUNTIF('06_Rendicion_Formulario'!$B$14:$B$113,$A20)) | C20: =IF(SUMIF('06_Rendicion_Formulario'!$B$14:$B$113,$A20,'06_Rendicion_Formulario'!$N$14:$N$113)=0,"",SUMIF('06_Rendicion_Formulario'!$B$14:$B$113,$A20,'06_Rendicion_Formulario'!$N$14:$N$113))
A21: Material de archivo | B21: =IF(COUNTIF('06_Rendicion_Formulario'!$B$14:$B$113,$A21)=0,"",COUNTIF('06_Rendicion_Formulario'!$B$14:$B$113,$A21)) | C21: =IF(SUMIF('06_Rendicion_Formulario'!$B$14:$B$113,$A21,'06_Rendicion_Formulario'!$N$14:$N$113)=0,"",SUMIF('06_Rendicion_Formulario'!$B$14:$B$113,$A21,'06_Rendicion_Formulario'!$N$14:$N$113))
A22: Música | B22: =IF(COUNTIF('06_Rendicion_Formulario'!$B$14:$B$113,$A22)=0,"",COUNTIF('06_Rendicion_Formulario'!$B$14:$B$113,$A22)) | C22: =IF(SUMIF('06_Rendicion_Formulario'!$B$14:$B$113,$A22,'06_Rendicion_Formulario'!$N$14:$N$113)=0,"",SUMIF('06_Rendicion_Formulario'!$B$14:$B$113,$A22,'06_Rendicion_Formulario'!$N$14:$N$113))
A23: Material Virgen | B23: =IF(COUNTIF('06_Rendicion_Formulario'!$B$14:$B$113,$A23)=0,"",COUNTIF('06_Rendicion_Formulario'!$B$14:$B$113,$A23)) | C23: =IF(SUMIF('06_Rendicion_Formulario'!$B$14:$B$113,$A23,'06_Rendicion_Formulario'!$N$14:$N$113)=0,"",SUMIF('06_Rendicion_Formulario'!$B$14:$B$113,$A23,'06_Rendicion_Formulario'!$N$14:$N$113))
A24: Proceso de imagen | B24: =IF(COUNTIF('06_Rendicion_Formulario'!$B$14:$B$113,$A24)=0,"",COUNTIF('06_Rendicion_Formulario'!$B$14:$B$113,$A24)) | C24: =IF(SUMIF('06_Rendicion_Formulario'!$B$14:$B$113,$A24,'06_Rendicion_Formulario'!$N$14:$N$113)=0,"",SUMIF('06_Rendicion_Formulario'!$B$14:$B$113,$A24,'06_Rendicion_Formulario'!$N$14:$N$113))
A25: Edición | B25: =IF(COUNTIF('06_Rendicion_Formulario'!$B$14:$B$113,$A25)=0,"",COUNTIF('06_Rendicion_Formulario'!$B$14:$B$113,$A25)) | C25: =IF(SUMIF('06_Rendicion_Formulario'!$B$14:$B$113,$A25,'06_Rendicion_Formulario'!$N$14:$N$113)=0,"",SUMIF('06_Rendicion_Formulario'!$B$14:$B$113,$A25,'06_Rendicion_Formulario'!$N$14:$N$113))
A26: Proceso de sonido | B26: =IF(COUNTIF('06_Rendicion_Formulario'!$B$14:$B$113,$A26)=0,"",COUNTIF('06_Rendicion_Formulario'!$B$14:$B$113,$A26)) | C26: =IF(SUMIF('06_Rendicion_Formulario'!$B$14:$B$113,$A26,'06_Rendicion_Formulario'!$N$14:$N$113)=0,"",SUMIF('06_Rendicion_Formulario'!$B$14:$B$113,$A26,'06_Rendicion_Formulario'!$N$14:$N$113))
A27: Alquiler de equipos | B27: =IF(COUNTIF('06_Rendicion_Formulario'!$B$14:$B$113,$A27)=0,"",COUNTIF('06_Rendicion_Formulario'!$B$14:$B$113,$A27)) | C27: =IF(SUMIF('06_Rendicion_Formulario'!$B$14:$B$113,$A27,'06_Rendicion_Formulario'!$N$14:$N$113)=0,"",SUMIF('06_Rendicion_Formulario'!$B$14:$B$113,$A27,'06_Rendicion_Formulario'!$N$14:$N$113))
... A34: Seguridad | B34: =IF(COUNTIF('06_Rendicion_Formulario'!$B$14:$B$113,$A34)=0,"",COUNTIF('06_Rendicion_Formulario'!$B$14:$B$113,$A34)) | C34: =IF(SUMIF('06_Rendicion_Formulario'!$B$14:$B$113,$A34,'06_Rendicion_Formulario'!$N$14:$N$113)=0,"",SUMIF('06_Rendicion_Formulario'!$B$14:$B$113,$A34,'06_Rendicion_Formulario'!$N$14:$N$113))
A35: Realización de trailer y spot | C35: =IF(SUMIF('06_Rendicion_Formulario'!$B$14:$B$113,$A35,'06_Rendicion_Formulario'!$N$14:$N$113)=0,"",SUMIF('06_Rendicion_Formulario'!$B$14:$B$113,$A35,'06_Rendicion_Formulario'!$N$14:$N$113))
A36: Copia A | C36: =IF(SUMIF('06_Rendicion_Formulario'!$B$14:$B$113,$A36,'06_Rendicion_Formulario'!$N$14:$N$113)=0,"",SUMIF('06_Rendicion_Formulario'!$B$14:$B$113,$A36,'06_Rendicion_Formulario'!$N$14:$N$113))
A37: Realización de afiche / impresiones | C37: =IF(SUMIF('06_Rendicion_Formulario'!$B$14:$B$113,$A37,'06_Rendicion_Formulario'!$N$14:$N$113)=0,"",SUMIF('06_Rendicion_Formulario'!$B$14:$B$113,$A37,'06_Rendicion_Formulario'!$N$14:$N$113))
A38: Publicidad | C38: =IF(SUMIF('06_Rendicion_Formulario'!$B$14:$B$113,$A38,'06_Rendicion_Formulario'!$N$14:$N$113)=0,"",SUMIF('06_Rendicion_Formulario'!$B$14:$B$113,$A38,'06_Rendicion_Formulario'!$N$14:$N$113))
A39: Totales | B39: =SUM(B10:B34) -> 0 | C39: =SUM(C10:C34) -> 0
A42: Resumen por categoría
A44: Categoría impacto | B44: Cantidad | C44: Monto (ARS)
A45: SERVICIOS AUDIOVISUALES | B45: =IF(COUNTIF('06_Rendicion_Formulario'!$J$14:$J$113,$A45)=0,"",COUNTIF('06_Rendicion_Formulario'!$J$14:$J$113,$A45)) | C45: =IF(SUMIF('06_Rendicion_Formulario'!$J$14:$J$113,$A45,'06_Rendicion_Formulario'!$N$14:$N$113)=0,"",SUMIF('06_Rendicion_Formulario'!$J$14:$J$113,$A45,'06_Rendicion_Formulario'!$N$14:$N$113))
A46: SERVICIOS LOGÍSTICOS | B46: =IF(COUNTIF('06_Rendicion_Formulario'!$J$14:$J$113,$A46)=0,"",COUNTIF('06_Rendicion_Formulario'!$J$14:$J$113,$A46)) | C46: =IF(SUMIF('06_Rendicion_Formulario'!$J$14:$J$113,$A46,'06_Rendicion_Formulario'!$N$14:$N$113)=0,"",SUMIF('06_Rendicion_Formulario'!$J$14:$J$113,$A46,'06_Rendicion_Formulario'!$N$14:$N$113))
A47: COMPRA | B47: =IF(COUNTIF('06_Rendicion_Formulario'!$J$14:$J$113,$A47)=0,"",COUNTIF('06_Rendicion_Formulario'!$J$14:$J$113,$A47)) | C47: =IF(SUMIF('06_Rendicion_Formulario'!$J$14:$J$113,$A47,'06_Rendicion_Formulario'!$N$14:$N$113)=0,"",SUMIF('06_Rendicion_Formulario'!$J$14:$J$113,$A47,'06_Rendicion_Formulario'!$N$14:$N$113))
A48: GASTO TOTAL EN SALTA | B48: =COUNTIF('06_Rendicion_Formulario'!E14:E113,"Provincia de Salta") -> 0 | C48: =SUMIF('06_Rendicion_Formulario'!E14:E113,"Provincia de Salta",'06_Rendicion_Formulario'!N14:N113) -> 0
A49: APORTES PROPIOS | C49: ='01_Presupuesto'!#REF! -> #REF!
A50: TOTAL | B50: =SUM(B45:B49) -> 0 | C50: =SUM(C45:C49) -> #REF!
A53: Contratados | B53: Cantidad | C53: Monto (ARS)
A54: Total personas | B54: ='07_Nomina equipo definitivo'!B9 -> 0 | C54: ='07_Nomina equipo definitivo'!B12 -> 0
...

Sheet 00_Listas
A1: Dirección | B1: Jefe/a de producción | C1: Director de puesta en escena Equip.A 1ra Categoria | D1: Elenco principal | E1: Bolo | F1: Dirección | G1: Producción ejecutiva | H1: Compositor/a musical | I1: Honorarios legales | J1: Económico | K1: Fondos de terceros | L1: Equipos (a precio de mercado) | M1: Extracto bancario | N1: Desarrollo del proyecto
A2: Producción | B2: Asistente de producción | C2: Rol de 1ra Categoria | D2: Elenco secundario | E2: Bolo calificado | F2: Co-dirección | G2: Director de producción | H2: Músicos | I2: Honorarios contables | J2: Especie | K2: Fondos propios del Productor/a | L2: Servicios profesionales | M2: Contrato | N2: Dirección
A3: Técnicos | B3: Ayudante de producción | C3: Rol de 2da Categoria | D3: Bolo mayor | E3: Bolo especial | F3: Coreógrafo | G3: Secretaría de producción | H3: Otro | I3: Otro | K3: Fondos propios del Director/a | L3: Recursos Humanos (según tarifas profesionales) | M3: Certificado de recaudación | N3: Producción
A4: Elenco | B4: Jefe/a de locaciones | C4: Rol de 3ra Categoria | D4: Bolo menor | E4: Bolo menor de hasta 15 años | F4: Director Musical | G4: Coordinador de postproducción | K4: Coproducciones | L4: Otro | M4: DDJJ | N4: Equipo técnico
A5: Extras | B5: Asistente locaciones | C5: Bolo Mayor de filmacion | E5: Bolo Bebe un 33% por acompañante | F5: Coach | G5: Otro | J5: ∫ | K5: Sponsors | M5: Factura | N5: Elenco
A6: Música | B6: Asistente de dirección | C6: Bolo Menor de filmacion | E6: Bolo del Menor un 33% por acompañante | F6: Otro | K6: Crowfunding | M6: Otro | N6: Cargas sociales
A7: ServiciosProfesionales | B7: Continuista / Script | C7: Bolo Mayor de doblaje por dia | E7: Planillero | K7: Otro | N7: Vestuario
B8: 1º Ayudante de dirección | C8: Bolo Menor de doblaje por dia | E8: Otro | N8: Maquillaje
B9: 2º Ayudante de dirección | C9: Bolo Actor especialista/bailarin profesional | N9: Utilería
B10: Dirección de casting | C10: Otro | N10: Escenografía
B11: Asistente de casting | N11: Locaciones
B12: Dirección de fotografía | N12: Material de archivo
B13: Técnico/a HD | N13: Música
B14: Camarógrafo/a | N14: Material virgen
B15: 1º Ayudante de cámara | N15: Proceso de imagen
B16: 2º Ayudante de cámara | N16: Edición
B17: Key grip | N17: Procesos de sonido
B18: Grip | N18: Alquiiler de equipos
B19: Asistente de grip | N19: Efectos especiales en set
B20: Video assist | N20: Movilidad
B21: Fotógrafo/a de filmación | N21: Fuerza motriz
B22: Gaffer | N22: Comidas y Alojamiento
... B29: Ambientador/a | N29: Publicidad
B30: Ayudante de escenografía
B31: Vestuarista
B32: Ayudante de vestuario
B33: Modisto/a
B34: Utilero/a - Carpintero/a
B35: Asistente de utilero
B36: Realizador/a
B37: Jefe/a de maquillaje
B38: Peinador/a
B39: Ayte. de maquillaje / peinado
B40: Dirección de sonido
B41: Ayudante de sonido
... B48: Aprendíz
